BEGIN:VCALENDAR
VERSION:2.0
CALSCALE:GREGORIAN
PRODID:adamgibbons/ics
METHOD:PUBLISH
X-PUBLISHED-TTL:PT1H
BEGIN:VEVENT
UID:13893@bcn.convoca.la
SUMMARY:Clases (Verticales\, Danza\, Creación....)
DTSTAMP:20260420T191814Z
DTSTART:20260421T080000Z
DTEND:20260421T200000Z
URL:https://bcn.convoca.la/event/clases-verticales-danza-creacion-33
LOCATION:La Nave de Metal - Espronceda 326\, Nave 1
STATUS:CONFIRMED
CATEGORIES:circ,creacion colectiva,dansa,taller
END:VEVENT
END:VCALENDAR
